BEGIN:VCALENDAR
VERSION:2.0
PRODID:-//Date iCal//NONSGML kigkonsult.se iCalcreator 2.20.4//
METHOD:PUBLISH
BEGIN:VTIMEZONE
TZID:America/Toronto
BEGIN:STANDARD
DTSTART:20251102T020000
TZOFFSETFROM:-0400
TZOFFSETTO:-0500
RDATE:20261101T020000
TZNAME:EST
END:STANDARD
BEGIN:DAYLIGHT
DTSTART:20260308T020000
TZOFFSETFROM:-0500
TZOFFSETTO:-0400
TZNAME:EDT
END:DAYLIGHT
END:VTIMEZONE
BEGIN:VEVENT
UID:calendar.8881322.field_dates.0@www.cantab.org
DTSTAMP:20260420T122622Z
CREATED:20260303T084850Z
DESCRIPTION:For the latest information\, please visit: https://www.cantab.o
 rg/events/the-boat-race-2026/montreal-qc-boat-race-2026-breakfast
DTSTART;TZID=America/Toronto:20260404T090000
DTEND;TZID=America/Toronto:20260404T110000
LAST-MODIFIED:20260304T143741Z
SUMMARY:Montreal\, QC: Boat Race 2026 Breakfast
URL;TYPE=URI:https://www.cantab.org/events/the-boat-race-2026/montreal-qc-b
 oat-race-2026-breakfast
END:VEVENT
END:VCALENDAR
