BEGIN:VCALENDAR
VERSION:2.0
PRODID:-//Date iCal//NONSGML kigkonsult.se iCalcreator 2.20.4//
METHOD:PUBLISH
BEGIN:VTIMEZONE
TZID:Europe/London
BEGIN:STANDARD
DTSTART:20261025T020000
TZOFFSETFROM:+0100
TZOFFSETTO:+0000
TZNAME:GMT
END:STANDARD
BEGIN:DAYLIGHT
DTSTART:20260329T010000
TZOFFSETFROM:+0000
TZOFFSETTO:+0100
TZNAME:BST
END:DAYLIGHT
END:VTIMEZONE
BEGIN:VEVENT
UID:calendar.8882142.field_dates.0@www.cantab.org
DTSTAMP:20260419T172536Z
CREATED:20260317T120245Z
DESCRIPTION:For the latest information\, please visit: https://www.cantab.o
 rg/events/cambridge-conversations/how-ai-is-transforming-cultural-heritage
 -research
DTSTART;TZID=Europe/London:20260610T190000
DTEND;TZID=Europe/London:20260610T200000
LAST-MODIFIED:20260417T113322Z
SUMMARY:How AI is transforming cultural heritage research
URL;TYPE=URI:https://www.cantab.org/events/cambridge-conversations/how-ai-i
 s-transforming-cultural-heritage-research
END:VEVENT
END:VCALENDAR
