BEGIN:VCALENDAR
VERSION:2.0
PRODID:-//Date iCal//NONSGML kigkonsult.se iCalcreator 2.20.4//
METHOD:PUBLISH
BEGIN:VTIMEZONE
TZID:America/New_York
BEGIN:STANDARD
DTSTART:20261101T020000
TZOFFSETFROM:-0400
TZOFFSETTO:-0500
TZNAME:EST
END:STANDARD
BEGIN:DAYLIGHT
DTSTART:20260308T020000
TZOFFSETFROM:-0500
TZOFFSETTO:-0400
TZNAME:EDT
END:DAYLIGHT
END:VTIMEZONE
BEGIN:VEVENT
UID:calendar.8883732.field_dates.0@www.cantab.org
DTSTAMP:20260419T154418Z
CREATED:20260417T192411Z
DESCRIPTION:For the latest information\, please visit: https://www.cantab.o
 rg/events/the-boat-race-2026/washington-dc-73rd-oxford-cambridge-boat-race
 -dinner-save-the-date
DTSTART;TZID=America/New_York:20260605T190000
DTEND;TZID=America/New_York:20260605T220000
LAST-MODIFIED:20260417T195942Z
SUMMARY:Washington\, D.C: 73rd Oxford-Cambridge Boat Race Dinner - Save the
  Date!
URL;TYPE=URI:https://www.cantab.org/events/the-boat-race-2026/washington-dc
 -73rd-oxford-cambridge-boat-race-dinner-save-the-date
END:VEVENT
END:VCALENDAR
